View In:
ArcGIS JavaScript
ArcGIS Online Map Viewer
ArcGIS Earth
Service Description: Krodsherad
Name: Krodsherad
Description:
Single Fused Map Cache: false
Extent:
XMin: 199912.61141443637
YMin: 6674186.301446548
XMax: 208767.91811129043
YMax: 6681821.168391451
Spatial Reference: 25833
(25833)
LatestVCSWkid(0)
Initial Extent:
XMin: 199912.61141443637
YMin: 6674186.301446548
XMax: 208767.91811129043
YMax: 6681821.168391451
Spatial Reference: 25833
(25833)
LatestVCSWkid(0)
Full Extent:
XMin: 199912.61141443637
YMin: 6674186.301446548
XMax: 208767.91811129043
YMax: 6681821.168391451
Spatial Reference: 25833
(25833)
LatestVCSWkid(0)
Pixel Size X: 0.999921713736909
Pixel Size Y: 0.9999825730063534
Band Count: 1
Pixel Type: F32
RasterFunction Infos: {"rasterFunctionInfos": [{
"name": "None",
"description": "",
"help": ""
}]}
Mensuration Capabilities: Basic
Inspection Capabilities:
Has Histograms: true
Has Colormap: false
Has Multi Dimensions : false
Rendering Rule:
Min Scale: 0
Max Scale: 0
Copyright Text:
Service Data Type: esriImageServiceDataTypeGeneric
Min Values: 0
Max Values: 587.747314453125
Mean Values: 18.10185389905963
Standard Deviation Values: 15.557469903799426
Object ID Field:
Fields:
None
Default Mosaic Method: Center
Allowed Mosaic Methods:
SortField:
SortValue: null
Mosaic Operator: First
Default Compression Quality: 75
Default Resampling Method: Bilinear
Max Record Count: null
Max Image Height: 4100
Max Image Width: 15000
Max Download Image Count: null
Max Mosaic Image Count: null
Allow Raster Function: true
Allow Copy: true
Allow Analysis: true
Allow Compute TiePoints: false
Supports Statistics: false
Supports Advanced Queries: false
Use StandardizedQueries: true
Raster Type Infos:
Name: Raster Dataset
Description: Supports all ArcGIS Raster Datasets
Help:
Has Raster Attribute Table: false
Edit Fields Info: null
Ownership Based AccessControl For Rasters: null
Child Resources:
Info
Histograms
Statistics
Key Properties
Legend
Raster Function Infos
Supported Operations:
Export Image
Identify
Measure
Compute Histograms
Compute Statistics Histograms
Get Samples
Compute Class Statistics
Query Boundary
Compute Pixel Location
Compute Angles
Validate
Project